BEGIN:VCALENDAR
VERSION:2.0
PRODID:-//Eventin//Event Calendar//EN
CALSCALE:GREGORIAN
METHOD:PUBLISH
BEGIN:VEVENT
UID:b61b5dcbac3cc723d67c78482010eb73@mediaformation.tn
SUMMARY:Réussir votre certification internationale Autodesk / Microsoft Of
 fice !
DESCRIPTION:[vc_row][vc_column][vc_column_text]Promotion New Year\nProfiter
  de 60% de réduction et Réussir votre certification internationale Autode
 sk ou Microsoft Office !\nTest + Préparation à 180 dt au lieu de 450 dt\
 nOffre valable pour 2 et 3 Janvier 2020\n\nPour plus d'informations:\nMEDIA
  FORMATION\nAu centre ville de Sousse\, en face théâtre municipale\nImmeu
 ble Ghnima (Topnet et Presse Café) - 4éme étage - B45\nTél: 27451533 - 
 73215006[/vc_column_text][/vc_column][/vc_row]
LOCATION:Online
DTSTAMP:20260421T094931Z
DTSTART:20200102T000000Z
DTEND:20260421T094931Z
END:VEVENT
END:VCALENDAR
